BEGIN:VCALENDAR
VERSION:2.0
PRODID:-//AudioTheme 2.3.8
BEGIN:VEVENT
UID:urn:uuid:d259ed29-57bc-4445-b627-fde53f9d2e30
URL:https://mitchmcvicker.com/concerts/gig-785/
DTSTART;TZID=GMT:20200417T000000
SUMMARY:Lutheran Church of Peace
LOCATION:Lutheran Church of Peace\, 1345 North Water Street\, Platteville\, WI
END:VEVENT
END:VCALENDAR
