BEGIN:VCALENDAR
VERSION:2.0
PRODID:-//AudioTheme 2.3.8
BEGIN:VEVENT
UID:urn:uuid:f874e4cb-2faa-4fea-883f-7738a466a0b9
URL:https://mitchmcvicker.com/concerts/gig-783/
DTSTART;TZID=GMT:20200416T000000
SUMMARY:First Presbyterian Church
LOCATION:First Presbyterian Church\, 981 W. 15th Street\, Wahoo\, NE
END:VEVENT
END:VCALENDAR
