BEGIN:VCALENDAR
VERSION:2.0
PRODID:-//AudioTheme 2.3.8
BEGIN:VEVENT
UID:urn:uuid:0908f5ef-958a-46fd-8cff-111a5a5d757c
URL:https://mitchmcvicker.com/concerts/gig-781/
DTSTART;TZID=GMT:20200329T000000
SUMMARY:Grace Community Church
LOCATION:Grace Community Church\, 4300 SW Burlingame RD\, Topeka\, KS
END:VEVENT
END:VCALENDAR
