BEGIN:VCALENDAR
VERSION:2.0
PRODID:-//AudioTheme 2.3.8
BEGIN:VEVENT
UID:urn:uuid:1e53f682-dd6a-4aeb-879c-b20b6620f888
URL:https://mitchmcvicker.com/concerts/gig-780/
DTSTART;TZID=GMT:20200326T000000
SUMMARY:POSTPONED Faith United Methodist Church
LOCATION:POSTPONED Faith United Methodist Church\, 6060 Teasley Lane\, POSTPONED Denton\, TX
END:VEVENT
END:VCALENDAR
