BEGIN:VCALENDAR
VERSION:2.0
PRODID:-//AudioTheme 2.3.8
BEGIN:VEVENT
UID:urn:uuid:217ad65c-144e-443b-b004-a86155706f7b
URL:https://mitchmcvicker.com/concerts/gig-777/
DTSTART;TZID=GMT:20200328T000000
SUMMARY:First United Methodist Church
LOCATION:First United Methodist Church\, 330 N. Broadway\, Wichita\, KS
END:VEVENT
END:VCALENDAR
