BEGIN:VCALENDAR
VERSION:2.0
PRODID:-//AudioTheme 2.3.8
BEGIN:VEVENT
UID:urn:uuid:8f048ac9-001e-465d-b2e8-4a8e61616601
URL:https://mitchmcvicker.com/concerts/gig-776/
DTSTART;TZID=GMT:20200315T230000
SUMMARY:Knights of Columbus
LOCATION:Knights of Columbus\, 2027 S. Austin Ave\, Denison\, TX
END:VEVENT
END:VCALENDAR
