BEGIN:VCALENDAR
VERSION:2.0
PRODID:-//AudioTheme 2.3.8
BEGIN:VEVENT
UID:urn:uuid:22117601-eb24-4b94-b21c-3666f14b905e
URL:https://mitchmcvicker.com/concerts/gig-774/
DTSTART;TZID=GMT:20200315T000000
SUMMARY:Revive Church
LOCATION:Revive Church\, 3500 McCann Rd\, Longview\, TX
END:VEVENT
END:VCALENDAR
