BEGIN:VCALENDAR
VERSION:2.0
PRODID:-//AudioTheme 2.3.8
BEGIN:VEVENT
UID:urn:uuid:aa67131a-4ed0-44f5-905c-1549a5af059b
URL:https://mitchmcvicker.com/concerts/gig-772/
DTSTART;TZID=GMT:20200229T230000
SUMMARY:Central Baptist Church
LOCATION:Central Baptist Church\, 201 US Highway 70 SW E\, Hildebran\, NC
END:VEVENT
END:VCALENDAR
