BEGIN:VCALENDAR
VERSION:2.0
PRODID:-//AudioTheme 2.3.8
BEGIN:VEVENT
UID:urn:uuid:d8c7434c-7041-4865-8dfb-9d22afdf790e
URL:https://mitchmcvicker.com/concerts/gig-767/
DTSTART;TZID=GMT:20200301T150000
SUMMARY:Mt. Vernon United Methodist Church
LOCATION:Mt. Vernon United Methodist Church\, 4977 AP Carter Hwy\, Hiltons\, VA
END:VEVENT
END:VCALENDAR
