BEGIN:VCALENDAR
VERSION:2.0
PRODID:-//AudioTheme 2.3.8
BEGIN:VEVENT
UID:urn:uuid:e8499520-2f86-4efa-a372-d8e12df4c532
URL:https://mitchmcvicker.com/concerts/gig-765/
DTSTART;TZID=GMT:20200229T000000
SUMMARY:Orebank Missionary Baptist Church
LOCATION:Orebank Missionary Baptist Church\, 5930 Orebank Road\, Kingsport\, TN
END:VEVENT
END:VCALENDAR
