BEGIN:VCALENDAR
VERSION:2.0
PRODID:-//AudioTheme 2.3.8
BEGIN:VEVENT
UID:urn:uuid:45937d17-0fb7-44b0-81cd-c3c3ce8dadcb
URL:https://mitchmcvicker.com/concerts/gig-762/
DTSTART;TZID=GMT:20200210T000000
SUMMARY:The Upper Room
LOCATION:The Upper Room\, 129 West Broad St\, Statesville\, NC
END:VEVENT
END:VCALENDAR
