BEGIN:VCALENDAR
VERSION:2.0
PRODID:-//AudioTheme 2.3.8
BEGIN:VEVENT
UID:urn:uuid:f40419a1-1ce9-478c-b0f6-c4a92a057255
URL:https://mitchmcvicker.com/concerts/gig-760/
DTSTART;TZID=GMT:20200209T003000
SUMMARY:Murray Hill Theatre
LOCATION:Murray Hill Theatre\, 932 Edgewood Ave S\, Jacksonville\, FL
END:VEVENT
END:VCALENDAR
