BEGIN:VCALENDAR
VERSION:2.0
PRODID:-//AudioTheme 2.3.8
BEGIN:VEVENT
UID:urn:uuid:e20079bd-5024-48c6-b355-a3fcec35f66e
URL:https://mitchmcvicker.com/concerts/gig-758/
DTSTART;TZID=GMT:20200207T000000
SUMMARY:Lutz Community Church
LOCATION:Lutz Community Church\, 601 Sunset Lane\, Lutz\, FL
END:VEVENT
END:VCALENDAR
