BEGIN:VCALENDAR
VERSION:2.0
PRODID:-//AudioTheme 2.3.8
BEGIN:VEVENT
UID:urn:uuid:12270938-f1c2-4f08-ad51-20a745398cd4
URL:https://mitchmcvicker.com/concerts/gig-756/
DTSTART;TZID=GMT:20200206T010000
SUMMARY:New Testament Fellowship
LOCATION:New Testament Fellowship\, 812 N W St\, Pensacola\, FL
END:VEVENT
END:VCALENDAR
