BEGIN:VCALENDAR
VERSION:2.0
PRODID:-//AudioTheme 2.3.8
BEGIN:VEVENT
UID:urn:uuid:2cad1d25-c8c5-416a-bdf7-70b6cc526b12
URL:https://mitchmcvicker.com/concerts/gig-745/
DTSTART;TZID=GMT:20191123T000000
SUMMARY:First Church of God
LOCATION:First Church of God\, 6330 Courtney Lane\, Dublin\, VA
END:VEVENT
END:VCALENDAR
