BEGIN:VCALENDAR
VERSION:2.0
PRODID:-//AudioTheme 2.3.8
BEGIN:VEVENT
UID:urn:uuid:ee2f9958-cb4f-4f49-ac1b-62517b473d5e
URL:https://mitchmcvicker.com/concerts/gig-743/
DTSTART;TZID=GMT:20191122T140000
SUMMARY:Gretna Theatre
LOCATION:Gretna Theatre\, 107 N. Main St.\, Gretna\, VA
END:VEVENT
END:VCALENDAR
