BEGIN:VCALENDAR
VERSION:2.0
PRODID:-//AudioTheme 2.3.8
BEGIN:VEVENT
UID:urn:uuid:4f98f274-ca04-4b83-8e9a-040c81adee79
URL:https://mitchmcvicker.com/concerts/gig-736/
DTSTART;TZID=GMT:20191126T000000
SUMMARY:Bowman's Woodworking Concert Venue
LOCATION:Bowman's Woodworking Concert Venue\, 6829 Providence Church Rd.\, Ferrum\, VA\, 24088
END:VEVENT
END:VCALENDAR
