BEGIN:VCALENDAR
VERSION:2.0
PRODID:-//AudioTheme 2.3.8
BEGIN:VEVENT
UID:urn:uuid:7fbaa224-50a2-47c8-bcff-6d125c955d0a
URL:https://mitchmcvicker.com/concerts/gig-734/
DTSTART;TZID=GMT:20191122T000000
SUMMARY:Calvary Baptist Church
LOCATION:Calvary Baptist Church\, 8408 Thomas Nelson Highway\, Lovingston\, VA\, 22949
END:VEVENT
END:VCALENDAR
