BEGIN:VCALENDAR
VERSION:2.0
PRODID:-//AudioTheme 2.3.8
BEGIN:VEVENT
UID:urn:uuid:ae359210-c0df-453d-ba3d-6eada44f7d51
URL:https://mitchmcvicker.com/concerts/gig-730/
DTSTART;TZID=GMT:20191121T010000
SUMMARY:Church of the Good Shepherd
LOCATION:Church of the Good Shepherd\, 809 Lee-Jackson Highway\, Staunton\, VA
END:VEVENT
END:VCALENDAR
