BEGIN:VCALENDAR
VERSION:2.0
PRODID:-//AudioTheme 2.3.8
BEGIN:VEVENT
UID:urn:uuid:792d04d7-8d57-4c6f-9690-8c3cec0aeb52
URL:https://mitchmcvicker.com/concerts/gig-727/
DTSTART;TZID=GMT:20191016T230000
SUMMARY:Linesville Presbyterian Church
LOCATION:Linesville Presbyterian Church\, 202 W. Erie St.\, Linesville\, PA
END:VEVENT
END:VCALENDAR
