BEGIN:VCALENDAR
VERSION:2.0
PRODID:-//AudioTheme 2.3.8
BEGIN:VEVENT
UID:urn:uuid:a1a6b8c0-0f91-4ceb-8da1-275afdd295cc
URL:https://mitchmcvicker.com/concerts/gig-725/
DTSTART;TZID=GMT:20191120T000000
SUMMARY:First Baptist Church
LOCATION:First Baptist Church\, 801 York St.\, Newport\, KY
END:VEVENT
END:VCALENDAR
