BEGIN:VCALENDAR
VERSION:2.0
PRODID:-//AudioTheme 2.3.8
BEGIN:VEVENT
UID:urn:uuid:325d915e-b639-4c81-a0c7-0e80add4bfcd
URL:https://mitchmcvicker.com/concerts/gig-722/
DTSTART;TZID=GMT:20191004T230000
SUMMARY:First United Methodist Church
LOCATION:First United Methodist Church\, 212 East Wabash Ave.\, Crawfordsville\, IN
END:VEVENT
END:VCALENDAR
