BEGIN:VCALENDAR
VERSION:2.0
PRODID:-//AudioTheme 2.3.8
BEGIN:VEVENT
UID:urn:uuid:217fb908-1daa-460f-b6c9-50395d45452a
URL:https://mitchmcvicker.com/concerts/gig-721/
DTSTART;TZID=GMT:20191124T200000
SUMMARY:Our Lady of Nazareth Catholic Church
LOCATION:Our Lady of Nazareth Catholic Church\, 2505 Electric Road\, Roanoke\, VA\, USA\, 24018
END:VEVENT
END:VCALENDAR
