BEGIN:VCALENDAR
VERSION:2.0
PRODID:-//AudioTheme 2.3.8
BEGIN:VEVENT
UID:urn:uuid:b23ba8b8-41d3-4051-82eb-da3531c7c338
URL:https://mitchmcvicker.com/concerts/gig-716/
DTSTART;TZID=GMT:20191110T000000
SUMMARY:Trinity Fellowship
LOCATION:Trinity Fellowship\, 440 St. Peter Street\, Indianapolis\, IN
END:VEVENT
END:VCALENDAR
