BEGIN:VCALENDAR
VERSION:2.0
PRODID:-//AudioTheme 2.3.8
BEGIN:VEVENT
UID:urn:uuid:1f248631-e53f-48c5-b926-90c6daa18d70
URL:https://mitchmcvicker.com/concerts/gig-714/
DTSTART;TZID=GMT:20191020T220000
SUMMARY:Emmanuel Christian Church
LOCATION:Emmanuel Christian Church\, 4495 Greenville Sandy Lake Road\, Stoneboro\, PA
END:VEVENT
END:VCALENDAR
