BEGIN:VCALENDAR
VERSION:2.0
PRODID:-//AudioTheme 2.3.8
BEGIN:VEVENT
UID:urn:uuid:9110ecc3-6d38-4d59-861d-30f3369d6b1f
URL:https://mitchmcvicker.com/concerts/gig-712/
DTSTART;TZID=GMT:20191108T000000
SUMMARY:Word of Deliverance
LOCATION:Word of Deliverance\, 116 Harvest Dr.\, Berkeley Springs\, WV
END:VEVENT
END:VCALENDAR
