BEGIN:VCALENDAR
VERSION:2.0
PRODID:-//AudioTheme 2.3.8
BEGIN:VEVENT
UID:urn:uuid:1cffc9f4-97fc-4e18-a76c-81863520e568
URL:https://mitchmcvicker.com/concerts/gig-711/
DTSTART;TZID=GMT:20191107T000000
SUMMARY:Advent Lutheran Church
LOCATION:Advent Lutheran Church\, 45 Worthington Mill Rd\, Richboro\, PA\, USA\, 18954
END:VEVENT
END:VCALENDAR
