BEGIN:VCALENDAR
VERSION:2.0
PRODID:-//AudioTheme 2.3.8
BEGIN:VEVENT
UID:urn:uuid:6d31804a-030e-47a8-8226-9b5a7698b981
URL:https://mitchmcvicker.com/concerts/gig-709/
DTSTART;TZID=GMT:20191109T000000
SUMMARY:Brookville Church of God
LOCATION:Brookville Church of God\, 201 Freedom Lane\, Brookville\, PA
END:VEVENT
END:VCALENDAR
