BEGIN:VCALENDAR
VERSION:2.0
PRODID:-//AudioTheme 2.3.8
BEGIN:VEVENT
UID:urn:uuid:f48bb4bd-1093-46e4-b467-d0bfe8f2884a
URL:https://mitchmcvicker.com/concerts/gig-705/
DTSTART;TZID=GMT:20191006T220000
SUMMARY:Mosaic Church @ Park Avenue Baptist
LOCATION:Mosaic Church @ Park Avenue Baptist\, 296 Park Ave. W.\, Mansfield\, OH
END:VEVENT
END:VCALENDAR
