BEGIN:VCALENDAR
VERSION:2.0
PRODID:-//AudioTheme 2.3.8
BEGIN:VEVENT
UID:urn:uuid:ee4ec182-82ed-43ca-af42-d95efc4116ae
URL:https://mitchmcvicker.com/concerts/gig-704/
DTSTART;TZID=GMT:20191004T000000
SUMMARY:Sanctuary Church
LOCATION:Sanctuary Church\, 912 18th Ave. SW\, Cedar Rapids\, IA
END:VEVENT
END:VCALENDAR
