BEGIN:VCALENDAR
VERSION:2.0
PRODID:-//AudioTheme 2.3.8
BEGIN:VEVENT
UID:urn:uuid:4ab0d1c8-a1bd-4626-accf-21d8ff87b007
URL:https://mitchmcvicker.com/concerts/gig-702/
DTSTART;TZID=GMT:20191003T000000
SUMMARY:Milady Coffeehouse @ May Brothers Building
LOCATION:Milady Coffeehouse @ May Brothers Building\, 105 East 6th Street\, Fremont\, NE
END:VEVENT
END:VCALENDAR
