BEGIN:VCALENDAR
VERSION:2.0
PRODID:-//AudioTheme 2.3.8
BEGIN:VEVENT
UID:urn:uuid:fe3dc0b3-f2c6-40b9-9977-ca49866be23e
URL:https://mitchmcvicker.com/concerts/gig-698/
DTSTART;TZID=GMT:20190909T010000
SUMMARY:Holy Name Catholic Church
LOCATION:Holy Name Catholic Church\, 260 East Loucks St.\, Sheridan\, WY
END:VEVENT
END:VCALENDAR
