BEGIN:VCALENDAR
VERSION:2.0
PRODID:-//AudioTheme 2.3.8
BEGIN:VEVENT
UID:urn:uuid:cfb67fd5-9e7e-4231-a70e-bea9c00fcc2e
URL:https://mitchmcvicker.com/concerts/gig-696/
DTSTART;TZID=GMT:20190907T010000
SUMMARY:Southside Bible Church
LOCATION:Southside Bible Church\, 7050 S. Tucson Way\, Centennial\, CO
END:VEVENT
END:VCALENDAR
