BEGIN:VCALENDAR
VERSION:2.0
PRODID:-//AudioTheme 2.3.8
BEGIN:VEVENT
UID:urn:uuid:fe273b24-f7f9-4c17-ac1a-ed8e90ea86ca
URL:https://mitchmcvicker.com/concerts/gig-695/
DTSTART;TZID=GMT:20190906T013000
SUMMARY:Vineyard Community Church
LOCATION:Vineyard Community Church\, 2711 Unaweep Ave.\, Grand Junction\, CO
END:VEVENT
END:VCALENDAR
