BEGIN:VCALENDAR
VERSION:2.0
PRODID:-//AudioTheme 2.3.8
BEGIN:VEVENT
UID:urn:uuid:babb0583-5fb1-4a8b-9f36-791531e7695b
URL:https://mitchmcvicker.com/concerts/gig-694/
DTSTART;TZID=GMT:20190905T010000
SUMMARY:First Presbyterian Church
LOCATION:First Presbyterian Church\, 220 W 10th St\, Pueblo\, CO\, USA\, 81003
END:VEVENT
END:VCALENDAR
