BEGIN:VCALENDAR
VERSION:2.0
PRODID:-//AudioTheme 2.3.8
BEGIN:VEVENT
UID:urn:uuid:6b6cc637-3e74-450e-8a38-bac5d82190dd
URL:https://mitchmcvicker.com/concerts/gig-692/
DTSTART;TZID=GMT:20190904T000000
SUMMARY:Mulvane Christian Church
LOCATION:Mulvane Christian Church\, 502 Highland Park Dr.\, Mulvane\, KS
END:VEVENT
END:VCALENDAR
