BEGIN:VCALENDAR
VERSION:2.0
PRODID:-//AudioTheme 2.3.8
BEGIN:VEVENT
UID:urn:uuid:914f7960-22d4-41e1-9ab7-bac6c4e78aac
URL:https://mitchmcvicker.com/concerts/gig-690/
DTSTART;TZID=GMT:20190830T230000
SUMMARY:St. Louis Church of Christ
LOCATION:St. Louis Church of Christ\, 1075 W. Monroe Rd.\, St. Louis\, MI
END:VEVENT
END:VCALENDAR
