BEGIN:VCALENDAR
VERSION:2.0
PRODID:-//AudioTheme 2.3.8
BEGIN:VEVENT
UID:urn:uuid:67ac40ab-1e5a-4e2b-ba61-7a271d2da99b
URL:https://mitchmcvicker.com/concerts/gig-687/
DTSTART;TZID=GMT:20190811T230000
SUMMARY:Rock on the Rock Outdoor Music Festival
LOCATION:Rock on the Rock Outdoor Music Festival\, Riverside Park - Harry Moore Pavilion\, Beloit\, WI
END:VEVENT
END:VCALENDAR
