BEGIN:VCALENDAR
VERSION:2.0
PRODID:-//AudioTheme 2.3.8
BEGIN:VEVENT
UID:urn:uuid:16a76732-34c7-4242-b1cf-dec87e5efebc
URL:https://mitchmcvicker.com/concerts/gig-685/
DTSTART;TZID=GMT:20190811T150000
SUMMARY:Clemons Bandstand at the Park - Hosted by Clemons United Church of Christ
LOCATION:Clemons Bandstand at the Park - Hosted by Clemons United Church of Christ\, Clemons Park\, Clemons\, IA
END:VEVENT
END:VCALENDAR
