BEGIN:VCALENDAR
VERSION:2.0
PRODID:-//AudioTheme 2.3.8
BEGIN:VEVENT
UID:urn:uuid:6826fedf-baee-45df-a3b5-54dfb720d194
URL:https://mitchmcvicker.com/concerts/gig-682/
DTSTART;TZID=GMT:20190616T150000
SUMMARY:Crossroads Community Church of the Nazarene Block Party
LOCATION:Crossroads Community Church of the Nazarene Block Party\, 3622 Hammond Ave.\, Waterloo\, Iowa\, 50702
END:VEVENT
END:VCALENDAR
