BEGIN:VCALENDAR
VERSION:2.0
PRODID:-//AudioTheme 2.3.8
BEGIN:VEVENT
UID:urn:uuid:f58bf853-a200-4a41-92d1-e058935080fa
URL:https://mitchmcvicker.com/concerts/gig-671/
DTSTART;TZID=GMT:20190609T000000
SUMMARY:Upwards Church - Leander Campus
LOCATION:Upwards Church - Leander Campus\, 8754 RR 2243\, Leander\, TX\, 78641
END:VEVENT
END:VCALENDAR
