BEGIN:VCALENDAR
VERSION:2.0
PRODID:-//AudioTheme 2.3.8
BEGIN:VEVENT
UID:urn:uuid:03dc7d4a-b66e-4489-9fdf-7fb5c864866d
URL:https://mitchmcvicker.com/concerts/gig-669/
DTSTART;TZID=GMT:20190519T140000
SUMMARY:West Ridge Community Church
LOCATION:West Ridge Community Church\, 3300 Encounter Lane\, Elgin\, IL\, 60124
END:VEVENT
END:VCALENDAR
