BEGIN:VCALENDAR
VERSION:2.0
PRODID:-//AudioTheme 2.3.8
BEGIN:VEVENT
UID:urn:uuid:964a9c46-a4af-4794-80eb-ba789309dc87
URL:https://mitchmcvicker.com/concerts/gig-657/
DTSTART;TZID=GMT:20190706T230000
SUMMARY:Deep Valley Christian Service Camp
LOCATION:Deep Valley Christian Service Camp\, 1073 Studebaker Rd\, Slippery Rock\, PA\, 16057
END:VEVENT
END:VCALENDAR
