BEGIN:VCALENDAR
VERSION:2.0
PRODID:-//AudioTheme 2.3.8
BEGIN:VEVENT
UID:urn:uuid:977d9ccc-b2de-4445-a541-948acc2c7cb1
URL:https://mitchmcvicker.com/concerts/gig-655/
DTSTART;TZID=GMT:20190703T230000
SUMMARY:Middlecreek Area Community Center
LOCATION:Middlecreek Area Community Center\, 67 Elm Street\, Beaver Springs\, PA\, 17812
END:VEVENT
END:VCALENDAR
