BEGIN:VCALENDAR
VERSION:2.0
PRODID:-//AudioTheme 2.3.8
BEGIN:VEVENT
UID:urn:uuid:b4ee55a1-4e50-4413-8375-3fe0427b6bb1
URL:https://mitchmcvicker.com/concerts/gig-653/
DTSTART;TZID=GMT:20190531T000000
SUMMARY:Cazenovia Mennonite Church
LOCATION:Cazenovia Mennonite Church\, 1086 County Road 1800 N Please disregard map above...this church is located along Illinois Route 89 and County Road 1800 N. in Cazenovia. Google maps may autocorrect to "Lowpoint\, IL" - that will get you to the correct location.\, Cazenovia\, IL\, 61545
END:VEVENT
END:VCALENDAR
