BEGIN:VCALENDAR
VERSION:2.0
PRODID:-//AudioTheme 2.3.8
BEGIN:VEVENT
UID:urn:uuid:40de0878-8596-4f8f-b8a9-528c23012ff6
URL:https://mitchmcvicker.com/concerts/gig-647/
DTSTART;TZID=GMT:20190426T000000
SUMMARY:Chapel Theater of Star Prairie
LOCATION:Chapel Theater of Star Prairie\, 415 Bridge Ave (Bethany Lutheran Church)\, Star Prairie\, WI\, 54026
END:VEVENT
END:VCALENDAR
