BEGIN:VCALENDAR
VERSION:2.0
PRODID:-//AudioTheme 2.3.8
BEGIN:VEVENT
UID:urn:uuid:a62c034a-643d-4a4f-a83b-1a5eef7c952e
URL:https://mitchmcvicker.com/concerts/gig-645/
DTSTART;TZID=GMT:20191017T230000
SUMMARY:St Bartholomew's Anglican Church
LOCATION:St Bartholomew's Anglican Church\, 2368 Eggert Rd\, Tonawanda\, NY\, 14150
END:VEVENT
END:VCALENDAR
