BEGIN:VCALENDAR
VERSION:2.0
PRODID:-//AudioTheme 2.3.8
BEGIN:VEVENT
UID:urn:uuid:41a89047-98b8-440b-bbf3-7ccfb9b898be
URL:https://mitchmcvicker.com/concerts/gig-641/
DTSTART;TZID=GMT:20191005T230000
SUMMARY:Community Church of Waterford
LOCATION:Community Church of Waterford\, 65154 County Rd 21\, Goshen\, IN\, 46526
END:VEVENT
END:VCALENDAR
