BEGIN:VCALENDAR
VERSION:2.0
PRODID:-//AudioTheme 2.3.8
BEGIN:VEVENT
UID:urn:uuid:c063c0e8-c626-456f-9223-6a51b16352ae
URL:https://mitchmcvicker.com/concerts/gig-639/
DTSTART;TZID=GMT:20190531T223000
SUMMARY:Mercy Road Church
LOCATION:Mercy Road Church\, 26741 Five Mile Rd\, Redford\, MI\, 48239
END:VEVENT
END:VCALENDAR
