BEGIN:VCALENDAR
VERSION:2.0
PRODID:-//AudioTheme 2.3.8
BEGIN:VEVENT
UID:urn:uuid:3c5b1c92-0799-4381-b406-a44651ef5742
URL:https://mitchmcvicker.com/concerts/gig-636/
DTSTART;TZID=GMT:20190608T000000
SUMMARY:Pursuit Christian Fellowship
LOCATION:Pursuit Christian Fellowship\, 5736-B Highway 78\, Sachse\, TX\, 75048
END:VEVENT
END:VCALENDAR
